BEGIN:VCALENDAR
VERSION:2.0
PRODID:-//Enotah CASA - ECPv6.15.16//NONSGML v1.0//EN
CALSCALE:GREGORIAN
METHOD:PUBLISH
X-WR-CALNAME:Enotah CASA
X-ORIGINAL-URL:https://enotahcasa.org
X-WR-CALDESC:Events for Enotah CASA
REFRESH-INTERVAL;VALUE=DURATION:PT1H
X-Robots-Tag:noindex
X-PUBLISHED-TTL:PT1H
BEGIN:VTIMEZONE
TZID:UTC
BEGIN:STANDARD
TZOFFSETFROM:+0000
TZOFFSETTO:+0000
TZNAME:UTC
DTSTART:20130101T000000
END:STANDARD
END:VTIMEZONE
BEGIN:VEVENT
DTSTART;VALUE=DATE:20150704
DTEND;VALUE=DATE:20150705
DTSTAMP:20260419T133049
CREATED:20151223T022543Z
LAST-MODIFIED:20151223T022543Z
UID:418-1435968000-1436054399@enotahcasa.org
SUMMARY:July 4th Car Show
DESCRIPTION:Happy Independence Day! We are selling hot dogs\, chips\, cokes and other refreshments today in downtown Dahlonega in front of the public library during the July 4th car show! All proceeds benefit children in foster care in our community!
URL:https://enotahcasa.org/event/july-4th-car-show/
LOCATION:Dahlonega Square by Visitors Center
CATEGORIES:CASA Events
ATTACH;FMTTYPE=image/jpeg:https://enotahcasa.org/wp-content/uploads/2015/08/image6.jpg
END:VEVENT
BEGIN:VEVENT
DTSTART;VALUE=DATE:20150214
DTEND;VALUE=DATE:20150215
DTSTAMP:20260419T133049
CREATED:20151223T022841Z
LAST-MODIFIED:20151223T022841Z
UID:419-1423872000-1423958399@enotahcasa.org
SUMMARY:The Sweetheart Ball
DESCRIPTION:An Elegant Evening of Dining & Dancing.\nTickets: $75 Individual\, $150 Couple\, $600 Table of 8\nLocation: The VENUE at Farris in Dahlonega \nCall 706-864-0300
URL:https://enotahcasa.org/event/the-sweetheart-ball/
LOCATION:The VENUE at Farris in Dahlonega\, 1450 Lumpkin County Pkwy\, Dahlonega\, GA\, 30533\, United States
ATTACH;FMTTYPE=image/jpeg:https://enotahcasa.org/wp-content/uploads/2015/12/image11.jpg
END:VEVENT
BEGIN:VEVENT
DTSTART;TZID=UTC:20140808T080000
DTEND;TZID=UTC:20140808T170000
DTSTAMP:20260419T133049
CREATED:20151223T022355Z
LAST-MODIFIED:20151223T022355Z
UID:416-1407484800-1407517200@enotahcasa.org
SUMMARY:Movie Under The Stars
DESCRIPTION:
URL:https://enotahcasa.org/event/movie-under-the-stars/
LOCATION:Hancock Park\, Hawkins Street\, Dahlonega\, GA\, 30533\, United States
CATEGORIES:CASA Events
ATTACH;FMTTYPE=image/jpeg:https://enotahcasa.org/wp-content/uploads/2015/01/8vbUFCP.jpg
END:VEVENT
END:VCALENDAR